Workbook

Sheet Application Form
A1: Academic Research Performance(Journal Articles) Reward Points Application Form
A2: Year | C2: 2026 | E2: Department/Institute: | J2: Position | K2: Regular Faculty □Full-time Faculty □Contract Faculty □Contract Researcher | L2: □ Chair professor □ Distinguished professor reward application period： __________________ | M2: □ Excellent research award-winning faculty □ Outstanding research award-winning faculty reward application period： ____________________ | N2: □ Retired in the current academic year Retirement Date:：__________ □ Resigned in the current academic year Resignation Date：__________ | O2: ※ Retired or resigned faculty members must have met the qualifications listed on the left during their active service to be eligible to apply.
A3: Name of applicant | B3: Chinese: (if applicable) | E3: Tel:
B4: English: (English name as in the published journal article) | E4: Email:
A5: Approval number (To be filled out by the Office of Research and Development) | B5: Application No. | C5: Title of the Journal Article | D5: Journal Publication Name | E5: Volume, Issue, Pages DOI | F5: Journal Type (Drop-down selection) | G5: Category Rank (See "Example") | H5: Impact Factor | I5: Journal Tier (auto-calculated, no input required) | J5: Author Sequence (Drop-down selection) | K5: Transnational Co-Authorship | L5: Stable Transnational Co-Authorship (Within 5 years, at least 3 collaborations with the same institution) – Proof required | M5: SDGs Extra Points | N5: Declaration Regarding NTUST Co-Authors, please check the appropriate box concerning co-authors from NTUST: | O5: Score (auto-calculated, no input required)
K6: Select One for Bonus | P6: 加分前分數 | Q6: 加分後分數 | R6: 加分後分數
I7: {=IF(OR(D7="", F7="", G7="", H7=""), "", _xlfn.IFS( OR(D7="Nature", D7="Science"), "Top-Tier Journal", F7="A&HCI", "Regular Journal", OR(F7="TSSCI Tier 1", F7="THCI Tier 1"), "Class-A Journal", OR(F7="TSSCI Tier 2", F7="THCI Tier 2"), "Regular Journal", H7 >= 20, "Leading Journal", G7 <= 4%, "Distinguished Journal", G7 <= 10%, "Outstanding Journal", G7 <= 25%, "Excellent Journal", G7 <= 50%, "Class-A Journal", TRUE, "Regular Journal" ))} | N7: □ Attach the consent documents of other co-authors at NTUST (e.g. emails) □ No co-authors at NTUST | O7: =R7 -> 0 | P7: {=INDEX('Score Reference Table'!C$2:C$36,MATCH('Application Form'!I7&'Application Form'!J7,'Score Reference Table'!A$2:A$36&'Score Reference Table'!B$2:B$36,0))} -> #N/A | Q7: {=P7 + _xlfn.IFS( I7="Top-Tier Journal", _xlfn.IFS(L7="Yes", 40, K7="Yes", 20, TRUE, 0), I7="Leading Journal", _xlfn.IFS(L7="Yes", 20, K7="Yes", 10, TRUE, 0), I7="Distinguished Journal", _xlfn.IFS(L7="Yes", 20, K7="Yes", 10, TRUE, 0), I7="Outstanding Journal", _xlfn.IFS(L7="Yes", 10, K7="Yes", 5, TRUE, 0), I7="Excellent Journal", _xlfn.IFS(L7="Yes", 10, K7="Yes", 5, TRUE, 0), I7="Class-A Journal", _xlfn.IFS(L7="Yes", 8, K7="Yes", 4, TRUE, 0), I7="Regular Journal", _xlfn.IFS(L7="Yes", 2, K7="Yes", 2, TRUE, 0), TRUE, 0 ) + IF(M7="Yes", 2, 0)} -> #N/A | R7: =IFERROR(Q7,0) -> 0
I8: {=IF(OR(D8="", F8="", G8="", H8=""), "", _xlfn.IFS( OR(D8="Nature", D8="Science"), "頂尖期刊", F8="A&HCI", "一般期刊", OR(F8="TSSCI第一級", F8="THCI第一級"), "甲等期刊", OR(F8="TSSCI第二級", F8="THCI第二級"), "一般期刊", H8 >= 20, "領航期刊", G8 <= 4%, "卓越期刊", G8 <= 10%, "傑出期刊", G8 <= 25%, "優良期刊", G8 <= 50%, "甲等期刊", TRUE, "一般期刊" ))} | N8: □ Attach the consent documents of other co-authors at NTUST (e.g. emails) □ No co-authors at NTUST | O8: =R8 -> 0 | P8: {=INDEX('Score Reference Table'!C$2:C$36,MATCH('Application Form'!I8&'Application Form'!J8,'Score Reference Table'!A$2:A$36&'Score Reference Table'!B$2:B$36,0))} -> #N/A | Q8: {=P8 + _xlfn.IFS( I8="頂尖期刊", _xlfn.IFS(L8="是", 40, K8="是", 20, TRUE, 0), I8="領航期刊", _xlfn.IFS(L8="是", 20, K8="是", 10, TRUE, 0), I8="卓越期刊", _xlfn.IFS(L8="是", 20, K8="是", 10, TRUE, 0), I8="傑出期刊", _xlfn.IFS(L8="是", 10, K8="是", 5, TRUE, 0), I8="優良期刊", _xlfn.IFS(L8="是", 10, K8="是", 5, TRUE, 0), I8="甲等期刊", _xlfn.IFS(L8="是", 8, K8="是", 4, TRUE, 0), I8="一般期刊", _xlfn.IFS(L8="是", 4, K8="是", 2, TRUE, 0), TRUE, 0 ) + IF(M8="是", 2, 0)} -> #N/A | R8: =IFERROR(Q8,0) -> 0
I9: {=IF(OR(D9="", F9="", G9="", H9=""), "", _xlfn.IFS( OR(D9="Nature", D9="Science"), "頂尖期刊", F9="A&HCI", "一般期刊", OR(F9="TSSCI第一級", F9="THCI第一級"), "甲等期刊", OR(F9="TSSCI第二級", F9="THCI第二級"), "一般期刊", H9 >= 20, "領航期刊", G9 <= 4%, "卓越期刊", G9 <= 10%, "傑出期刊", G9 <= 25%, "優良期刊", G9 <= 50%, "甲等期刊", TRUE, "一般期刊" ))} | N9: □ Attach the consent documents of other co-authors at NTUST (e.g. emails) □ No co-authors at NTUST | O9: =R9 -> 0 | P9: {=INDEX('Score Reference Table'!C$2:C$36,MATCH('Application Form'!I9&'Application Form'!J9,'Score Reference Table'!A$2:A$36&'Score Reference Table'!B$2:B$36,0))} -> #N/A | Q9: {=P9 + _xlfn.IFS( I9="頂尖期刊", _xlfn.IFS(L9="是", 40, K9="是", 20, TRUE, 0), I9="領航期刊", _xlfn.IFS(L9="是", 20, K9="是", 10, TRUE, 0), I9="卓越期刊", _xlfn.IFS(L9="是", 20, K9="是", 10, TRUE, 0), I9="傑出期刊", _xlfn.IFS(L9="是", 10, K9="是", 5, TRUE, 0), I9="優良期刊", _xlfn.IFS(L9="是", 10, K9="是", 5, TRUE, 0), I9="甲等期刊", _xlfn.IFS(L9="是", 8, K9="是", 4, TRUE, 0), I9="一般期刊", _xlfn.IFS(L9="是", 4, K9="是", 2, TRUE, 0), TRUE, 0 ) + IF(M9="是", 2, 0)} -> #N/A | R9: =IFERROR(Q9,0) -> 0
I10: {=IF(OR(D10="", F10="", G10="", H10=""), "", _xlfn.IFS( OR(D10="Nature", D10="Science"), "頂尖期刊", F10="A&HCI", "一般期刊", OR(F10="TSSCI第一級", F10="THCI第一級"), "甲等期刊", OR(F10="TSSCI第二級", F10="THCI第二級"), "一般期刊", H10 >= 20, "領航期刊", G10 <= 4%, "卓越期刊", G10 <= 10%, "傑出期刊", G10 <= 25%, "優良期刊", G10 <= 50%, "甲等期刊", TRUE, "一般期刊" ))} | N10: □ Attach the consent documents of other co-authors at NTUST (e.g. emails) □ No co-authors at NTUST | O10: =R10 -> 0 | P10: {=INDEX('Score Reference Table'!C$2:C$36,MATCH('Application Form'!I10&'Application Form'!J10,'Score Reference Table'!A$2:A$36&'Score Reference Table'!B$2:B$36,0))} -> #N/A | Q10: {=P10 + _xlfn.IFS( I10="頂尖期刊", _xlfn.IFS(L10="是", 40, K10="是", 20, TRUE, 0), I10="領航期刊", _xlfn.IFS(L10="是", 20, K10="是", 10, TRUE, 0), I10="卓越期刊", _xlfn.IFS(L10="是", 20, K10="是", 10, TRUE, 0), I10="傑出期刊", _xlfn.IFS(L10="是", 10, K10="是", 5, TRUE, 0), I10="優良期刊", _xlfn.IFS(L10="是", 10, K10="是", 5, TRUE, 0), I10="甲等期刊", _xlfn.IFS(L10="是", 8, K10="是", 4, TRUE, 0), I10="一般期刊", _xlfn.IFS(L10="是", 4, K10="是", 2, TRUE, 0), TRUE, 0 ) + IF(M10="是", 2, 0)} -> #N/A | R10: =IFERROR(Q10,0) -> 0
I11: {=IF(OR(D11="", F11="", G11="", H11=""), "", _xlfn.IFS( OR(D11="Nature", D11="Science"), "頂尖期刊", F11="A&HCI", "一般期刊", OR(F11="TSSCI第一級", F11="THCI第一級"), "甲等期刊", OR(F11="TSSCI第二級", F11="THCI第二級"), "一般期刊", H11 >= 20, "領航期刊", G11 <= 4%, "卓越期刊", G11 <= 10%, "傑出期刊", G11 <= 25%, "優良期刊", G11 <= 50%, "甲等期刊", TRUE, "一般期刊" ))} | N11: □ Attach the consent documents of other co-authors at NTUST (e.g. emails) □ No co-authors at NTUST | O11: =R11 -> 0 | P11: {=INDEX('Score Reference Table'!C$2:C$36,MATCH('Application Form'!I11&'Application Form'!J11,'Score Reference Table'!A$2:A$36&'Score Reference Table'!B$2:B$36,0))} -> #N/A | Q11: {=P11 + _xlfn.IFS( I11="頂尖期刊", _xlfn.IFS(L11="是", 40, K11="是", 20, TRUE, 0), I11="領航期刊", _xlfn.IFS(L11="是", 20, K11="是", 10, TRUE, 0), I11="卓越期刊", _xlfn.IFS(L11="是", 20, K11="是", 10, TRUE, 0), I11="傑出期刊", _xlfn.IFS(L11="是", 10, K11="是", 5, TRUE, 0), I11="優良期刊", _xlfn.IFS(L11="是", 10, K11="是", 5, TRUE, 0), I11="甲等期刊", _xlfn.IFS(L11="是", 8, K11="是", 4, TRUE, 0), I11="一般期刊", _xlfn.IFS(L11="是", 4, K11="是", 2, TRUE, 0), TRUE, 0 ) + IF(M11="是", 2, 0)} -> #N/A | R11: =IFERROR(Q11,0) -> 0
I12: {=IF(OR(D12="", F12="", G12="", H12=""), "", _xlfn.IFS( OR(D12="Nature", D12="Science"), "頂尖期刊", F12="A&HCI", "一般期刊", OR(F12="TSSCI第一級", F12="THCI第一級"), "甲等期刊", OR(F12="TSSCI第二級", F12="THCI第二級"), "一般期刊", H12 >= 20, "領航期刊", G12 <= 4%, "卓越期刊", G12 <= 10%, "傑出期刊", G12 <= 25%, "優良期刊", G12 <= 50%, "甲等期刊", TRUE, "一般期刊" ))} | N12: □ Attach the consent documents of other co-authors at NTUST (e.g. emails) □ No co-authors at NTUST | O12: =R12 -> 0 | P12: {=INDEX('Score Reference Table'!C$2:C$36,MATCH('Application Form'!I12&'Application Form'!J12,'Score Reference Table'!A$2:A$36&'Score Reference Table'!B$2:B$36,0))} -> #N/A | Q12: {=P12 + _xlfn.IFS( I12="頂尖期刊", _xlfn.IFS(L12="是", 40, K12="是", 20, TRUE, 0), I12="領航期刊", _xlfn.IFS(L12="是", 20, K12="是", 10, TRUE, 0), I12="卓越期刊", _xlfn.IFS(L12="是", 20, K12="是", 10, TRUE, 0), I12="傑出期刊", _xlfn.IFS(L12="是", 10, K12="是", 5, TRUE, 0), I12="優良期刊", _xlfn.IFS(L12="是", 10, K12="是", 5, TRUE, 0), I12="甲等期刊", _xlfn.IFS(L12="是", 8, K12="是", 4, TRUE, 0), I12="一般期刊", _xlfn.IFS(L12="是", 4, K12="是", 2, TRUE, 0), TRUE, 0 ) + IF(M12="是", 2, 0)} -> #N/A | R12: =IFERROR(Q12,0) -> 0
I13: {=IF(OR(D13="", F13="", G13="", H13=""), "", _xlfn.IFS( OR(D13="Nature", D13="Science"), "頂尖期刊", F13="A&HCI", "一般期刊", OR(F13="TSSCI第一級", F13="THCI第一級"), "甲等期刊", OR(F13="TSSCI第二級", F13="THCI第二級"), "一般期刊", H13 >= 20, "領航期刊", G13 <= 4%, "卓越期刊", G13 <= 10%, "傑出期刊", G13 <= 25%, "優良期刊", G13 <= 50%, "甲等期刊", TRUE, "一般期刊" ))} | N13: □ Attach the consent documents of other co-authors at NTUST (e.g. emails) □ No co-authors at NTUST | O13: =R13 -> 0 | P13: {=INDEX('Score Reference Table'!C$2:C$36,MATCH('Application Form'!I13&'Application Form'!J13,'Score Reference Table'!A$2:A$36&'Score Reference Table'!B$2:B$36,0))} -> #N/A | Q13: {=P13 + _xlfn.IFS( I13="頂尖期刊", _xlfn.IFS(L13="是", 40, K13="是", 20, TRUE, 0), I13="領航期刊", _xlfn.IFS(L13="是", 20, K13="是", 10, TRUE, 0), I13="卓越期刊", _xlfn.IFS(L13="是", 20, K13="是", 10, TRUE, 0), I13="傑出期刊", _xlfn.IFS(L13="是", 10, K13="是", 5, TRUE, 0), I13="優良期刊", _xlfn.IFS(L13="是", 10, K13="是", 5, TRUE, 0), I13="甲等期刊", _xlfn.IFS(L13="是", 8, K13="是", 4, TRUE, 0), I13="一般期刊", _xlfn.IFS(L13="是", 4, K13="是", 2, TRUE, 0), TRUE, 0 ) + IF(M13="是", 2, 0)} -> #N/A | R13: =IFERROR(Q13,0) -> 0
I14: {=IF(OR(D14="", F14="", G14="", H14=""), "", _xlfn.IFS( OR(D14="Nature", D14="Science"), "頂尖期刊", F14="A&HCI", "一般期刊", OR(F14="TSSCI第一級", F14="THCI第一級"), "甲等期刊", OR(F14="TSSCI第二級", F14="THCI第二級"), "一般期刊", H14 >= 20, "領航期刊", G14 <= 4%, "卓越期刊", G14 <= 10%, "傑出期刊", G14 <= 25%, "優良期刊", G14 <= 50%, "甲等期刊", TRUE, "一般期刊" ))} | N14: □ Attach the consent documents of other co-authors at NTUST (e.g. emails) □ No co-authors at NTUST | O14: =R14 -> 0 | P14: {=INDEX('Score Reference Table'!C$2:C$36,MATCH('Application Form'!I14&'Application Form'!J14,'Score Reference Table'!A$2:A$36&'Score Reference Table'!B$2:B$36,0))} -> #N/A | Q14: {=P14 + _xlfn.IFS( I14="頂尖期刊", _xlfn.IFS(L14="是", 40, K14="是", 20, TRUE, 0), I14="領航期刊", _xlfn.IFS(L14="是", 20, K14="是", 10, TRUE, 0), I14="卓越期刊", _xlfn.IFS(L14="是", 20, K14="是", 10, TRUE, 0), I14="傑出期刊", _xlfn.IFS(L14="是", 10, K14="是", 5, TRUE, 0), I14="優良期刊", _xlfn.IFS(L14="是", 10, K14="是", 5, TRUE, 0), I14="甲等期刊", _xlfn.IFS(L14="是", 8, K14="是", 4, TRUE, 0), I14="一般期刊", _xlfn.IFS(L14="是", 4, K14="是", 2, TRUE, 0), TRUE, 0 ) + IF(M14="是", 2, 0)} -> #N/A | R14: =IFERROR(Q14,0) -> 0
I15: {=IF(OR(D15="", F15="", G15="", H15=""), "", _xlfn.IFS( OR(D15="Nature", D15="Science"), "頂尖期刊", F15="A&HCI", "一般期刊", OR(F15="TSSCI第一級", F15="THCI第一級"), "甲等期刊", OR(F15="TSSCI第二級", F15="THCI第二級"), "一般期刊", H15 >= 20, "領航期刊", G15 <= 4%, "卓越期刊", G15 <= 10%, "傑出期刊", G15 <= 25%, "優良期刊", G15 <= 50%, "甲等期刊", TRUE, "一般期刊" ))} | N15: □ Attach the consent documents of other co-authors at NTUST (e.g. emails) □ No co-authors at NTUST | O15: =R15 -> 0 | P15: {=INDEX('Score Reference Table'!C$2:C$36,MATCH('Application Form'!I15&'Application Form'!J15,'Score Reference Table'!A$2:A$36&'Score Reference Table'!B$2:B$36,0))} -> #N/A | Q15: {=P15 + _xlfn.IFS( I15="頂尖期刊", _xlfn.IFS(L15="是", 40, K15="是", 20, TRUE, 0), I15="領航期刊", _xlfn.IFS(L15="是", 20, K15="是", 10, TRUE, 0), I15="卓越期刊", _xlfn.IFS(L15="是", 20, K15="是", 10, TRUE, 0), I15="傑出期刊", _xlfn.IFS(L15="是", 10, K15="是", 5, TRUE, 0), I15="優良期刊", _xlfn.IFS(L15="是", 10, K15="是", 5, TRUE, 0), I15="甲等期刊", _xlfn.IFS(L15="是", 8, K15="是", 4, TRUE, 0), I15="一般期刊", _xlfn.IFS(L15="是", 4, K15="是", 2, TRUE, 0), TRUE, 0 ) + IF(M15="是", 2, 0)} -> #N/A | R15: =IFERROR(Q15,0) -> 0
I16: {=IF(OR(D16="", F16="", G16="", H16=""), "", _xlfn.IFS( OR(D16="Nature", D16="Science"), "頂尖期刊", F16="A&HCI", "一般期刊", OR(F16="TSSCI第一級", F16="THCI第一級"), "甲等期刊", OR(F16="TSSCI第二級", F16="THCI第二級"), "一般期刊", H16 >= 20, "領航期刊", G16 <= 4%, "卓越期刊", G16 <= 10%, "傑出期刊", G16 <= 25%, "優良期刊", G16 <= 50%, "甲等期刊", TRUE, "一般期刊" ))} | N16: □ Attach the consent documents of other co-authors at NTUST (e.g. emails) □ No co-authors at NTUST | O16: =R16 -> 0 | P16: {=INDEX('Score Reference Table'!C$2:C$36,MATCH('Application Form'!I16&'Application Form'!J16,'Score Reference Table'!A$2:A$36&'Score Reference Table'!B$2:B$36,0))} -> #N/A | Q16: {=P16 + _xlfn.IFS( I16="頂尖期刊", _xlfn.IFS(L16="是", 40, K16="是", 20, TRUE, 0), I16="領航期刊", _xlfn.IFS(L16="是", 20, K16="是", 10, TRUE, 0), I16="卓越期刊", _xlfn.IFS(L16="是", 20, K16="是", 10, TRUE, 0), I16="傑出期刊", _xlfn.IFS(L16="是", 10, K16="是", 5, TRUE, 0), I16="優良期刊", _xlfn.IFS(L16="是", 10, K16="是", 5, TRUE, 0), I16="甲等期刊", _xlfn.IFS(L16="是", 8, K16="是", 4, TRUE, 0), I16="一般期刊", _xlfn.IFS(L16="是", 4, K16="是", 2, TRUE, 0), TRUE, 0 ) + IF(M16="是", 2, 0)} -> #N/A | R16: =IFERROR(Q16,0) -> 0
I17: {=IF(OR(D17="", F17="", G17="", H17=""), "", _xlfn.IFS( OR(D17="Nature", D17="Science"), "頂尖期刊", F17="A&HCI", "一般期刊", OR(F17="TSSCI第一級", F17="THCI第一級"), "甲等期刊", OR(F17="TSSCI第二級", F17="THCI第二級"), "一般期刊", H17 >= 20, "領航期刊", G17 <= 4%, "卓越期刊", G17 <= 10%, "傑出期刊", G17 <= 25%, "優良期刊", G17 <= 50%, "甲等期刊", TRUE, "一般期刊" ))} | N17: □ Attach the consent documents of other co-authors at NTUST (e.g. emails) □ No co-authors at NTUST | O17: =R17 -> 0 | P17: {=INDEX('Score Reference Table'!C$2:C$36,MATCH('Application Form'!I17&'Application Form'!J17,'Score Reference Table'!A$2:A$36&'Score Reference Table'!B$2:B$36,0))} -> #N/A | Q17: {=P17 + _xlfn.IFS( I17="頂尖期刊", _xlfn.IFS(L17="是", 40, K17="是", 20, TRUE, 0), I17="領航期刊", _xlfn.IFS(L17="是", 20, K17="是", 10, TRUE, 0), I17="卓越期刊", _xlfn.IFS(L17="是", 20, K17="是", 10, TRUE, 0), I17="傑出期刊", _xlfn.IFS(L17="是", 10, K17="是", 5, TRUE, 0), I17="優良期刊", _xlfn.IFS(L17="是", 10, K17="是", 5, TRUE, 0), I17="甲等期刊", _xlfn.IFS(L17="是", 8, K17="是", 4, TRUE, 0), I17="一般期刊", _xlfn.IFS(L17="是", 4, K17="是", 2, TRUE, 0), TRUE, 0 ) + IF(M17="是", 2, 0)} -> #N/A | R17: =IFERROR(Q17,0) -> 0
I18: {=IF(OR(D18="", F18="", G18="", H18=""), "", _xlfn.IFS( OR(D18="Nature", D18="Science"), "頂尖期刊", F18="A&HCI", "一般期刊", OR(F18="TSSCI第一級", F18="THCI第一級"), "甲等期刊", OR(F18="TSSCI第二級", F18="THCI第二級"), "一般期刊", H18 >= 20, "領航期刊", G18 <= 4%, "卓越期刊", G18 <= 10%, "傑出期刊", G18 <= 25%, "優良期刊", G18 <= 50%, "甲等期刊", TRUE, "一般期刊" ))} | N18: □ Attach the consent documents of other co-authors at NTUST (e.g. emails) □ No co-authors at NTUST | O18: =R18 -> 0 | P18: {=INDEX('Score Reference Table'!C$2:C$36,MATCH('Application Form'!I18&'Application Form'!J18,'Score Reference Table'!A$2:A$36&'Score Reference Table'!B$2:B$36,0))} -> #N/A | Q18: {=P18 + _xlfn.IFS( I18="頂尖期刊", _xlfn.IFS(L18="是", 40, K18="是", 20, TRUE, 0), I18="領航期刊", _xlfn.IFS(L18="是", 20, K18="是", 10, TRUE, 0), I18="卓越期刊", _xlfn.IFS(L18="是", 20, K18="是", 10, TRUE, 0), I18="傑出期刊", _xlfn.IFS(L18="是", 10, K18="是", 5, TRUE, 0), I18="優良期刊", _xlfn.IFS(L18="是", 10, K18="是", 5, TRUE, 0), I18="甲等期刊", _xlfn.IFS(L18="是", 8, K18="是", 4, TRUE, 0), I18="一般期刊", _xlfn.IFS(L18="是", 4, K18="是", 2, TRUE, 0), TRUE, 0 ) + IF(M18="是", 2, 0)} -> #N/A | R18: =IFERROR(Q18,0) -> 0
A19: ※ To protect the applicant's rights, please read the following declaration carefully and acknowledge: 1. I have thoroughly understood the relevant regulations in Article 2 of the 'Directives for Rewarding Research and Development Achievements of Faculty' regarding 'Journals and Publishers Ineligible for Reward' (as detailed in the reward announcement). 2. I confirm that the journal article/s for which I am applying for reward is/are not listed in the university's 'Journals and Publishers Ineligible for Reward' list (as shown on the right). 3. If any discrepancies are found, I fully consent to have the relevant reward points deducted, return the reward funds, and have the matter reported to my department head by the Office of Research and Development. Applicant's Signature：____________________________________ | J19: ※Journals and publishers not eligible for reward (including sub-journals) （1）ACS Omega （2）AIP Advances （3）Biology Open （4）BMJ Open （5）De Gruyter Open Imprint （6）Elsevier Heliyon （7）FEBS Open Bio | M19: （8）Frontiers （9）G3L Genes, Genomes, Genetics （10）IEEE Access （11）MDPI （12）Medicine （13）Oncotarget （14）Open Library of Humanities （15）Peer J | O19: （16）Plos One （17）Royal Society Open Science （18）SAGE Open （19）Sage Open Medicine （20）Scientific Reports （21）Springer Plus （22）Zootaxa
A22: Procedure: (applicant → department → college) | E22: Personnel Office | J22: Office of Research and Development | N22: Total score | O22: =SUM(O7:O18) -> 0

Sheet Score Reference Table
A1: Journal Ranking | B1: Author Sequence | C1: Score | D1: 備註
A2: Top-Tier Journal | B2: First Author | C2: 300
A3: Top-Tier Journal | B3: Corresponding Author and The first author identifies NTUST as the publishing institution. | C3: 300
A4: Top-Tier Journal | B4: Corresponding Author and The first author does not identify NTUST as the publishing institution. | C4: 150
A5: Top-Tier Journal | B5: Second/Third Author | C5: 150
A6: Top-Tier Journal | B6: Fourth Author (Inclusive) and Thereafter | C6: 75
A7: Leading Journal | B7: First Author | C7: 120
A8: Leading Journal | B8: Corresponding Author and The first author identifies NTUST as the publishing institution. | C8: =200*0.6 -> 120
A9: Leading Journal | B9: Corresponding Author and The first author does not identify NTUST as the publishing institution. | C9: =200*0.3 -> 60
A10: Leading Journal | B10: Second/Third Author | C10: 60
A11: Leading Journal | B11: Fourth Author (Inclusive) and Thereafter | C11: 30
A12: Distinguished Journal | B12: First Author | C12: 80
A13: Distinguished Journal | B13: Corresponding Author and The first author identifies NTUST as the publishing institution. | C13: 80
A14: Distinguished Journal | B14: Corresponding Author and The first author does not identify NTUST as the publishing institution. | C14: 40
A15: Distinguished Journal | B15: Second/Third Author | C15: 40
A16: Distinguished Journal | B16: Fourth Author (Inclusive) and Thereafter | C16: 20
A17: Outstanding Journal | B17: First Author | C17: 50
A18: Outstanding Journal | B18: Corresponding Author and The first author identifies NTUST as the publishing institution. | C18: 50
A19: Outstanding Journal | B19: Corresponding Author and The first author does not identify NTUST as the publishing institution. | C19: 25
A20: Outstanding Journal | B20: Second/Third Author | C20: 25
A21: Outstanding Journal | B21: Fourth Author (Inclusive) and Thereafter | C21: 12
... A26: Excellent Journal | B26: Fourth Author (Inclusive) and Thereafter | C26: 9
A27: Class-A Journal | B27: First Author | C27: 20 | D27: Chair professors and distinguished professors are not eligible to apply.
A28: Class-A Journal | B28: Corresponding Author and The first author identifies NTUST as the publishing institution. | C28: 20 | D28: Chair professors and distinguished professors are not eligible to apply.
A29: Class-A Journal | B29: Corresponding Author and The first author does not identify NTUST as the publishing institution. | C29: 10 | D29: Chair professors and distinguished professors are not eligible to apply.
A30: Class-A Journal | B30: Second/Third Author | C30: 10 | D30: Chair professors and distinguished professors are not eligible to apply.
A31: Class-A Journal | B31: Fourth Author (Inclusive) and Thereafter | C31: 5 | D31: Chair professors and distinguished professors are not eligible to apply.
A32: Regular Journal | B32: First Author | C32: 8 | D32: Chair professors, distinguished professors, as well as recipients of outstanding research awards, research awards, excellent research awards, and creative work awards are not eligible to apply.
A33: Regular Journal | B33: Corresponding Author and The first author identifies NTUST as the publishing institution. | C33: 8 | D33: Chair professors, distinguished professors, as well as recipients of outstanding research awards, research awards, excellent research awards, and creative work awards are not eligible to apply.
A34: Regular Journal | B34: Corresponding Author and The first author does not identify NTUST as the publishing institution. | C34: 4 | D34: Chair professors, distinguished professors, as well as recipients of outstanding research awards, research awards, excellent research awards, and creative work awards are not eligible to apply.
A35: Regular Journal | B35: Second/Third Author | C35: 4 | D35: Chair professors, distinguished professors, as well as recipients of outstanding research awards, research awards, excellent research awards, and creative work awards are not eligible to apply.
A36: Regular Journal | B36: Fourth Author (Inclusive) and Thereafter | C36: 2 | D36: Chair professors, distinguished professors, as well as recipients of outstanding research awards, research awards, excellent research awards, and creative work awards are not eligible to apply.

Sheet JournalTypeAuthor SequenceBonus
A1: Journal Type | B1: Author Sequence | C1: Bonus
A2: SCI(E) | B2: First Author | C2: Yes
A3: SSCI | B3: Corresponding Author and The first author identifies NTUST as the publishing institution. | C3: No
A4: A&HCI | B4: Corresponding Author and The first author does not identify NTUST as the publishing institution.
A5: TSSCI Tier 1 | B5: Second/Third Author
A6: TSSCI Tier 2 | B6: Fourth Author (Inclusive) and Thereafter
A7: THCI Tier 1
A8: THCI Tier 2
A9: A&HCI

Sheet Example
