Workbook

Sheet 申請表
A1: 學術研究績效(期刊論文)獎勵分數申請表
A2: 年度 | C2: 2026 | E2: 所屬單位(系/所)︰ | J2: 身分︰ | K2: 一般教師 □專任教師 □專案教師 □專案研究人員 | L2: □ 講座教授 □特聘教授 獎勵期間： __________________ | M2: □ 優良研究獎得主 □ 傑出研究獎得主 獎勵期間： ____________________ | N2: □ 當年度退休 退休日期：__________ □ 當年度離職 離職日期：__________ | O2: ※ 離職或退休教師在職期間須符合左列身分始得申請。
A3: 申請人 | B3: 中文姓名︰ | E3: 連絡電話︰
B4: 英文姓名︰ | E4: 電子信箱︰
A5: 核定編號 (研發處審查填寫) | B5: 申請序號 | C5: 論文名稱 | D5: 期刊名稱 | E5: 卷(期)號 DOI | F5: 期刊類型 (下拉勾選) | G5: Category Rank ( 參照「範例」 ) | H5: Impact Factor | I5: 期刊等級 (自動帶出) | J5: 作者序 (下拉勾選) | K5: 跨國合著 (當年度) | L5: 穩定跨國合著 (近5年同機構3件)-須佐證 | M5: WOS資料庫Categories 有標註SDGs項目 | N5: 同一論文是否與本校其他教師合著 | O5: 分數 (自動帶出)
K6: 擇一加分 | P6: 加分前分數 | Q6: 加分後分數 | R6: 加分後分數
I7: {=IF(OR(D7="", F7="", G7="", H7=""), "", _xlfn.IFS( OR(D7="Nature", D7="Science"), "頂尖期刊", F7="A&HCI", "一般期刊", OR(F7="TSSCI第一級", F7="THCI第一級"), "甲等期刊", OR(F7="TSSCI第二級", F7="THCI第二級"), "一般期刊", H7 >= 20, "領航期刊", G7 <= 4%, "卓越期刊", G7 <= 10%, "傑出期刊", G7 <= 25%, "優良期刊", G7 <= 50%, "甲等期刊", TRUE, "一般期刊" ))} | N7: □是，須檢附本校其他教師授權證明 □否 | O7: =R7 -> 0 | P7: {=INDEX(分數參考表!C$2:C$36,MATCH(申請表!I7&申請表!J7,分數參考表!A$2:A$36&分數參考表!B$2:B$36,0))} -> #N/A | Q7: {=P7 + _xlfn.IFS( I7="頂尖期刊", _xlfn.IFS(L7="是", 40, K7="是", 20, TRUE, 0), I7="領航期刊", _xlfn.IFS(L7="是", 20, K7="是", 10, TRUE, 0), I7="卓越期刊", _xlfn.IFS(L7="是", 20, K7="是", 10, TRUE, 0), I7="傑出期刊", _xlfn.IFS(L7="是", 10, K7="是", 5, TRUE, 0), I7="優良期刊", _xlfn.IFS(L7="是", 10, K7="是", 5, TRUE, 0), I7="甲等期刊", _xlfn.IFS(L7="是", 8, K7="是", 4, TRUE, 0), I7="一般期刊", _xlfn.IFS(L7="是", 4, K7="是", 2, TRUE, 0), TRUE, 0 ) + IF(M7="是", 2, 0)} -> #N/A | R7: =IFERROR(Q7,0) -> 0
I8: {=IF(OR(D8="", F8="", G8="", H8=""), "", _xlfn.IFS( OR(D8="Nature", D8="Science"), "頂尖期刊", F8="A&HCI", "一般期刊", OR(F8="TSSCI第一級", F8="THCI第一級"), "甲等期刊", OR(F8="TSSCI第二級", F8="THCI第二級"), "一般期刊", H8 >= 20, "領航期刊", G8 <= 4%, "卓越期刊", G8 <= 10%, "傑出期刊", G8 <= 25%, "優良期刊", G8 <= 50%, "甲等期刊", TRUE, "一般期刊" ))} | N8: □是，須檢附本校其他教師授權證明 □否 | O8: =R8 -> 0 | P8: {=INDEX(分數參考表!C$2:C$36,MATCH(申請表!I8&申請表!J8,分數參考表!A$2:A$36&分數參考表!B$2:B$36,0))} -> #N/A | Q8: {=P8 + _xlfn.IFS( I8="頂尖期刊", _xlfn.IFS(L8="是", 40, K8="是", 20, TRUE, 0), I8="領航期刊", _xlfn.IFS(L8="是", 20, K8="是", 10, TRUE, 0), I8="卓越期刊", _xlfn.IFS(L8="是", 20, K8="是", 10, TRUE, 0), I8="傑出期刊", _xlfn.IFS(L8="是", 10, K8="是", 5, TRUE, 0), I8="優良期刊", _xlfn.IFS(L8="是", 10, K8="是", 5, TRUE, 0), I8="甲等期刊", _xlfn.IFS(L8="是", 8, K8="是", 4, TRUE, 0), I8="一般期刊", _xlfn.IFS(L8="是", 4, K8="是", 2, TRUE, 0), TRUE, 0 ) + IF(M8="是", 2, 0)} -> #N/A | R8: =IFERROR(Q8,0) -> 0
I9: {=IF(OR(D9="", F9="", G9="", H9=""), "", _xlfn.IFS( OR(D9="Nature", D9="Science"), "頂尖期刊", F9="A&HCI", "一般期刊", OR(F9="TSSCI第一級", F9="THCI第一級"), "甲等期刊", OR(F9="TSSCI第二級", F9="THCI第二級"), "一般期刊", H9 >= 20, "領航期刊", G9 <= 4%, "卓越期刊", G9 <= 10%, "傑出期刊", G9 <= 25%, "優良期刊", G9 <= 50%, "甲等期刊", TRUE, "一般期刊" ))} | N9: □是，須檢附本校其他教師授權證明 □否 | O9: =R9 -> 0 | P9: {=INDEX(分數參考表!C$2:C$36,MATCH(申請表!I9&申請表!J9,分數參考表!A$2:A$36&分數參考表!B$2:B$36,0))} -> #N/A | Q9: {=P9 + _xlfn.IFS( I9="頂尖期刊", _xlfn.IFS(L9="是", 40, K9="是", 20, TRUE, 0), I9="領航期刊", _xlfn.IFS(L9="是", 20, K9="是", 10, TRUE, 0), I9="卓越期刊", _xlfn.IFS(L9="是", 20, K9="是", 10, TRUE, 0), I9="傑出期刊", _xlfn.IFS(L9="是", 10, K9="是", 5, TRUE, 0), I9="優良期刊", _xlfn.IFS(L9="是", 10, K9="是", 5, TRUE, 0), I9="甲等期刊", _xlfn.IFS(L9="是", 8, K9="是", 4, TRUE, 0), I9="一般期刊", _xlfn.IFS(L9="是", 4, K9="是", 2, TRUE, 0), TRUE, 0 ) + IF(M9="是", 2, 0)} -> #N/A | R9: =IFERROR(Q9,0) -> 0
I10: {=IF(OR(D10="", F10="", G10="", H10=""), "", _xlfn.IFS( OR(D10="Nature", D10="Science"), "頂尖期刊", F10="A&HCI", "一般期刊", OR(F10="TSSCI第一級", F10="THCI第一級"), "甲等期刊", OR(F10="TSSCI第二級", F10="THCI第二級"), "一般期刊", H10 >= 20, "領航期刊", G10 <= 4%, "卓越期刊", G10 <= 10%, "傑出期刊", G10 <= 25%, "優良期刊", G10 <= 50%, "甲等期刊", TRUE, "一般期刊" ))} | N10: □是，須檢附本校其他教師授權證明 □否 | O10: =R10 -> 0 | P10: {=INDEX(分數參考表!C$2:C$36,MATCH(申請表!I10&申請表!J10,分數參考表!A$2:A$36&分數參考表!B$2:B$36,0))} -> #N/A | Q10: {=P10 + _xlfn.IFS( I10="頂尖期刊", _xlfn.IFS(L10="是", 40, K10="是", 20, TRUE, 0), I10="領航期刊", _xlfn.IFS(L10="是", 20, K10="是", 10, TRUE, 0), I10="卓越期刊", _xlfn.IFS(L10="是", 20, K10="是", 10, TRUE, 0), I10="傑出期刊", _xlfn.IFS(L10="是", 10, K10="是", 5, TRUE, 0), I10="優良期刊", _xlfn.IFS(L10="是", 10, K10="是", 5, TRUE, 0), I10="甲等期刊", _xlfn.IFS(L10="是", 8, K10="是", 4, TRUE, 0), I10="一般期刊", _xlfn.IFS(L10="是", 4, K10="是", 2, TRUE, 0), TRUE, 0 ) + IF(M10="是", 2, 0)} -> #N/A | R10: =IFERROR(Q10,0) -> 0
I11: {=IF(OR(D11="", F11="", G11="", H11=""), "", _xlfn.IFS( OR(D11="Nature", D11="Science"), "頂尖期刊", F11="A&HCI", "一般期刊", OR(F11="TSSCI第一級", F11="THCI第一級"), "甲等期刊", OR(F11="TSSCI第二級", F11="THCI第二級"), "一般期刊", H11 >= 20, "領航期刊", G11 <= 4%, "卓越期刊", G11 <= 10%, "傑出期刊", G11 <= 25%, "優良期刊", G11 <= 50%, "甲等期刊", TRUE, "一般期刊" ))} | N11: □是，須檢附本校其他教師授權證明 □否 | O11: =R11 -> 0 | P11: {=INDEX(分數參考表!C$2:C$36,MATCH(申請表!I11&申請表!J11,分數參考表!A$2:A$36&分數參考表!B$2:B$36,0))} -> #N/A | Q11: {=P11 + _xlfn.IFS( I11="頂尖期刊", _xlfn.IFS(L11="是", 40, K11="是", 20, TRUE, 0), I11="領航期刊", _xlfn.IFS(L11="是", 20, K11="是", 10, TRUE, 0), I11="卓越期刊", _xlfn.IFS(L11="是", 20, K11="是", 10, TRUE, 0), I11="傑出期刊", _xlfn.IFS(L11="是", 10, K11="是", 5, TRUE, 0), I11="優良期刊", _xlfn.IFS(L11="是", 10, K11="是", 5, TRUE, 0), I11="甲等期刊", _xlfn.IFS(L11="是", 8, K11="是", 4, TRUE, 0), I11="一般期刊", _xlfn.IFS(L11="是", 4, K11="是", 2, TRUE, 0), TRUE, 0 ) + IF(M11="是", 2, 0)} -> #N/A | R11: =IFERROR(Q11,0) -> 0
I12: {=IF(OR(D12="", F12="", G12="", H12=""), "", _xlfn.IFS( OR(D12="Nature", D12="Science"), "頂尖期刊", F12="A&HCI", "一般期刊", OR(F12="TSSCI第一級", F12="THCI第一級"), "甲等期刊", OR(F12="TSSCI第二級", F12="THCI第二級"), "一般期刊", H12 >= 20, "領航期刊", G12 <= 4%, "卓越期刊", G12 <= 10%, "傑出期刊", G12 <= 25%, "優良期刊", G12 <= 50%, "甲等期刊", TRUE, "一般期刊" ))} | N12: □是，須檢附本校其他教師授權證明 □否 | O12: =R12 -> 0 | P12: {=INDEX(分數參考表!C$2:C$36,MATCH(申請表!I12&申請表!J12,分數參考表!A$2:A$36&分數參考表!B$2:B$36,0))} -> #N/A | Q12: {=P12 + _xlfn.IFS( I12="頂尖期刊", _xlfn.IFS(L12="是", 40, K12="是", 20, TRUE, 0), I12="領航期刊", _xlfn.IFS(L12="是", 20, K12="是", 10, TRUE, 0), I12="卓越期刊", _xlfn.IFS(L12="是", 20, K12="是", 10, TRUE, 0), I12="傑出期刊", _xlfn.IFS(L12="是", 10, K12="是", 5, TRUE, 0), I12="優良期刊", _xlfn.IFS(L12="是", 10, K12="是", 5, TRUE, 0), I12="甲等期刊", _xlfn.IFS(L12="是", 8, K12="是", 4, TRUE, 0), I12="一般期刊", _xlfn.IFS(L12="是", 4, K12="是", 2, TRUE, 0), TRUE, 0 ) + IF(M12="是", 2, 0)} -> #N/A | R12: =IFERROR(Q12,0) -> 0
I13: {=IF(OR(D13="", F13="", G13="", H13=""), "", _xlfn.IFS( OR(D13="Nature", D13="Science"), "頂尖期刊", F13="A&HCI", "一般期刊", OR(F13="TSSCI第一級", F13="THCI第一級"), "甲等期刊", OR(F13="TSSCI第二級", F13="THCI第二級"), "一般期刊", H13 >= 20, "領航期刊", G13 <= 4%, "卓越期刊", G13 <= 10%, "傑出期刊", G13 <= 25%, "優良期刊", G13 <= 50%, "甲等期刊", TRUE, "一般期刊" ))} | N13: □是，須檢附本校其他教師授權證明 □否 | O13: =R13 -> 0 | P13: {=INDEX(分數參考表!C$2:C$36,MATCH(申請表!I13&申請表!J13,分數參考表!A$2:A$36&分數參考表!B$2:B$36,0))} -> #N/A | Q13: {=P13 + _xlfn.IFS( I13="頂尖期刊", _xlfn.IFS(L13="是", 40, K13="是", 20, TRUE, 0), I13="領航期刊", _xlfn.IFS(L13="是", 20, K13="是", 10, TRUE, 0), I13="卓越期刊", _xlfn.IFS(L13="是", 20, K13="是", 10, TRUE, 0), I13="傑出期刊", _xlfn.IFS(L13="是", 10, K13="是", 5, TRUE, 0), I13="優良期刊", _xlfn.IFS(L13="是", 10, K13="是", 5, TRUE, 0), I13="甲等期刊", _xlfn.IFS(L13="是", 8, K13="是", 4, TRUE, 0), I13="一般期刊", _xlfn.IFS(L13="是", 4, K13="是", 2, TRUE, 0), TRUE, 0 ) + IF(M13="是", 2, 0)} -> #N/A | R13: =IFERROR(Q13,0) -> 0
I14: {=IF(OR(D14="", F14="", G14="", H14=""), "", _xlfn.IFS( OR(D14="Nature", D14="Science"), "頂尖期刊", F14="A&HCI", "一般期刊", OR(F14="TSSCI第一級", F14="THCI第一級"), "甲等期刊", OR(F14="TSSCI第二級", F14="THCI第二級"), "一般期刊", H14 >= 20, "領航期刊", G14 <= 4%, "卓越期刊", G14 <= 10%, "傑出期刊", G14 <= 25%, "優良期刊", G14 <= 50%, "甲等期刊", TRUE, "一般期刊" ))} | N14: □是，須檢附本校其他教師授權證明 □否 | O14: =R14 -> 0 | P14: {=INDEX(分數參考表!C$2:C$36,MATCH(申請表!I14&申請表!J14,分數參考表!A$2:A$36&分數參考表!B$2:B$36,0))} -> #N/A | Q14: {=P14 + _xlfn.IFS( I14="頂尖期刊", _xlfn.IFS(L14="是", 40, K14="是", 20, TRUE, 0), I14="領航期刊", _xlfn.IFS(L14="是", 20, K14="是", 10, TRUE, 0), I14="卓越期刊", _xlfn.IFS(L14="是", 20, K14="是", 10, TRUE, 0), I14="傑出期刊", _xlfn.IFS(L14="是", 10, K14="是", 5, TRUE, 0), I14="優良期刊", _xlfn.IFS(L14="是", 10, K14="是", 5, TRUE, 0), I14="甲等期刊", _xlfn.IFS(L14="是", 8, K14="是", 4, TRUE, 0), I14="一般期刊", _xlfn.IFS(L14="是", 4, K14="是", 2, TRUE, 0), TRUE, 0 ) + IF(M14="是", 2, 0)} -> #N/A | R14: =IFERROR(Q14,0) -> 0
I15: {=IF(OR(D15="", F15="", G15="", H15=""), "", _xlfn.IFS( OR(D15="Nature", D15="Science"), "頂尖期刊", F15="A&HCI", "一般期刊", OR(F15="TSSCI第一級", F15="THCI第一級"), "甲等期刊", OR(F15="TSSCI第二級", F15="THCI第二級"), "一般期刊", H15 >= 20, "領航期刊", G15 <= 4%, "卓越期刊", G15 <= 10%, "傑出期刊", G15 <= 25%, "優良期刊", G15 <= 50%, "甲等期刊", TRUE, "一般期刊" ))} | N15: □是，須檢附本校其他教師授權證明 □否 | O15: =R15 -> 0 | P15: {=INDEX(分數參考表!C$2:C$36,MATCH(申請表!I15&申請表!J15,分數參考表!A$2:A$36&分數參考表!B$2:B$36,0))} -> #N/A | Q15: {=P15 + _xlfn.IFS( I15="頂尖期刊", _xlfn.IFS(L15="是", 40, K15="是", 20, TRUE, 0), I15="領航期刊", _xlfn.IFS(L15="是", 20, K15="是", 10, TRUE, 0), I15="卓越期刊", _xlfn.IFS(L15="是", 20, K15="是", 10, TRUE, 0), I15="傑出期刊", _xlfn.IFS(L15="是", 10, K15="是", 5, TRUE, 0), I15="優良期刊", _xlfn.IFS(L15="是", 10, K15="是", 5, TRUE, 0), I15="甲等期刊", _xlfn.IFS(L15="是", 8, K15="是", 4, TRUE, 0), I15="一般期刊", _xlfn.IFS(L15="是", 4, K15="是", 2, TRUE, 0), TRUE, 0 ) + IF(M15="是", 2, 0)} -> #N/A | R15: =IFERROR(Q15,0) -> 0
I16: {=IF(OR(D16="", F16="", G16="", H16=""), "", _xlfn.IFS( OR(D16="Nature", D16="Science"), "頂尖期刊", F16="A&HCI", "一般期刊", OR(F16="TSSCI第一級", F16="THCI第一級"), "甲等期刊", OR(F16="TSSCI第二級", F16="THCI第二級"), "一般期刊", H16 >= 20, "領航期刊", G16 <= 4%, "卓越期刊", G16 <= 10%, "傑出期刊", G16 <= 25%, "優良期刊", G16 <= 50%, "甲等期刊", TRUE, "一般期刊" ))} | N16: □是，須檢附本校其他教師授權證明 □否 | O16: =R16 -> 0 | P16: {=INDEX(分數參考表!C$2:C$36,MATCH(申請表!I16&申請表!J16,分數參考表!A$2:A$36&分數參考表!B$2:B$36,0))} -> #N/A | Q16: {=P16 + _xlfn.IFS( I16="頂尖期刊", _xlfn.IFS(L16="是", 40, K16="是", 20, TRUE, 0), I16="領航期刊", _xlfn.IFS(L16="是", 20, K16="是", 10, TRUE, 0), I16="卓越期刊", _xlfn.IFS(L16="是", 20, K16="是", 10, TRUE, 0), I16="傑出期刊", _xlfn.IFS(L16="是", 10, K16="是", 5, TRUE, 0), I16="優良期刊", _xlfn.IFS(L16="是", 10, K16="是", 5, TRUE, 0), I16="甲等期刊", _xlfn.IFS(L16="是", 8, K16="是", 4, TRUE, 0), I16="一般期刊", _xlfn.IFS(L16="是", 4, K16="是", 2, TRUE, 0), TRUE, 0 ) + IF(M16="是", 2, 0)} -> #N/A | R16: =IFERROR(Q16,0) -> 0
I17: {=IF(OR(D17="", F17="", G17="", H17=""), "", _xlfn.IFS( OR(D17="Nature", D17="Science"), "頂尖期刊", F17="A&HCI", "一般期刊", OR(F17="TSSCI第一級", F17="THCI第一級"), "甲等期刊", OR(F17="TSSCI第二級", F17="THCI第二級"), "一般期刊", H17 >= 20, "領航期刊", G17 <= 4%, "卓越期刊", G17 <= 10%, "傑出期刊", G17 <= 25%, "優良期刊", G17 <= 50%, "甲等期刊", TRUE, "一般期刊" ))} | N17: □是，須檢附本校其他教師授權證明 □否 | O17: =R17 -> 0 | P17: {=INDEX(分數參考表!C$2:C$36,MATCH(申請表!I17&申請表!J17,分數參考表!A$2:A$36&分數參考表!B$2:B$36,0))} -> #N/A | Q17: {=P17 + _xlfn.IFS( I17="頂尖期刊", _xlfn.IFS(L17="是", 40, K17="是", 20, TRUE, 0), I17="領航期刊", _xlfn.IFS(L17="是", 20, K17="是", 10, TRUE, 0), I17="卓越期刊", _xlfn.IFS(L17="是", 20, K17="是", 10, TRUE, 0), I17="傑出期刊", _xlfn.IFS(L17="是", 10, K17="是", 5, TRUE, 0), I17="優良期刊", _xlfn.IFS(L17="是", 10, K17="是", 5, TRUE, 0), I17="甲等期刊", _xlfn.IFS(L17="是", 8, K17="是", 4, TRUE, 0), I17="一般期刊", _xlfn.IFS(L17="是", 4, K17="是", 2, TRUE, 0), TRUE, 0 ) + IF(M17="是", 2, 0)} -> #N/A | R17: =IFERROR(Q17,0) -> 0
I18: {=IF(OR(D18="", F18="", G18="", H18=""), "", _xlfn.IFS( OR(D18="Nature", D18="Science"), "頂尖期刊", F18="A&HCI", "一般期刊", OR(F18="TSSCI第一級", F18="THCI第一級"), "甲等期刊", OR(F18="TSSCI第二級", F18="THCI第二級"), "一般期刊", H18 >= 20, "領航期刊", G18 <= 4%, "卓越期刊", G18 <= 10%, "傑出期刊", G18 <= 25%, "優良期刊", G18 <= 50%, "甲等期刊", TRUE, "一般期刊" ))} | N18: □是，須檢附本校其他教師授權證明 □否 | O18: =R18 -> 0 | P18: {=INDEX(分數參考表!C$2:C$36,MATCH(申請表!I18&申請表!J18,分數參考表!A$2:A$36&分數參考表!B$2:B$36,0))} -> #N/A | Q18: {=P18 + _xlfn.IFS( I18="頂尖期刊", _xlfn.IFS(L18="是", 40, K18="是", 20, TRUE, 0), I18="領航期刊", _xlfn.IFS(L18="是", 20, K18="是", 10, TRUE, 0), I18="卓越期刊", _xlfn.IFS(L18="是", 20, K18="是", 10, TRUE, 0), I18="傑出期刊", _xlfn.IFS(L18="是", 10, K18="是", 5, TRUE, 0), I18="優良期刊", _xlfn.IFS(L18="是", 10, K18="是", 5, TRUE, 0), I18="甲等期刊", _xlfn.IFS(L18="是", 8, K18="是", 4, TRUE, 0), I18="一般期刊", _xlfn.IFS(L18="是", 4, K18="是", 2, TRUE, 0), TRUE, 0 ) + IF(M18="是", 2, 0)} -> #N/A | R18: =IFERROR(Q18,0) -> 0
A19: ※為保障申請人權益，請詳閱以下聲明事項，並簽章具結： 1. 本人已詳閱並瞭解《國立臺灣科技大學學術研究績效獎勵辦法》第八條規定：投稿期刊若列入本校公告之「不獎勵期刊或出版社」名單者，不予獎勵。 2. 本人確認本次申請獎勵之論文均未刊登於本校公告之「不獎勵期刊或出版社」清單（如右所示）。 3. 如有虛偽不實、隱匿或違反相關規定之情事，本人同意由學校扣除相關獎勵分數、追回已核發之獎勵金，並由研發處通知所屬單位主管依相關規定辦理。 申請人簽章： __________________________ | J19: ※不獎勵期刊(含子期刊)或出版社： 622次行政會議通過(113年1月1日起生效) （1）ACS Omega （2）AIP Advances （3）Biology Open （4）BMJ Open （5）De Gruyter Open Imprint （6）Elsevier Heliyon （7）FEBS Open Bio | M19: （8）Frontiers （9）G3L Genes, Genomes, Genetics （10）IEEE Access （11）MDPI （12）Medicine （13）Oncotarget （14）Open Library of Humanities （15）Peer J | O19: （16）Plos One （17）Royal Society Open Science （18）SAGE Open （19）Sage Open Medicine （20）Scientific Reports （21）Springer Plus （22）Zootaxa
A22: 系所主管 | E22: 人事室 | J22: 研究發展處 | N22: 總分 | O22: =SUM(O7:O18) -> 0

Sheet 分數參考表
A1: 期刊等級 | B1: 作者序 | C1: 分數 | D1: 備註
A2: 頂尖期刊 | B2: 第一作者 | C2: 300
A3: 頂尖期刊 | B3: 通訊作者且第一作者以本校為發表機構 | C3: 300
A4: 頂尖期刊 | B4: 通訊作者且第一作者非以本校為發表機構 | C4: 150
A5: 頂尖期刊 | B5: 第二、三作者 | C5: 150
A6: 頂尖期刊 | B6: 第四(含)作者以後 | C6: 75
A7: 領航期刊 | B7: 第一作者 | C7: 120
A8: 領航期刊 | B8: 通訊作者且第一作者以本校為發表機構 | C8: =200*0.6 -> 120
A9: 領航期刊 | B9: 通訊作者且第一作者非以本校為發表機構 | C9: =200*0.3 -> 60
A10: 領航期刊 | B10: 第二、三作者 | C10: 60
A11: 領航期刊 | B11: 第四(含)作者以後 | C11: 30
A12: 卓越期刊 | B12: 第一作者 | C12: 80
A13: 卓越期刊 | B13: 通訊作者且第一作者以本校為發表機構 | C13: 80
A14: 卓越期刊 | B14: 通訊作者且第一作者非以本校為發表機構 | C14: 40
A15: 卓越期刊 | B15: 第二、三作者 | C15: 40
A16: 卓越期刊 | B16: 第四(含)作者以後 | C16: 20
A17: 傑出期刊 | B17: 第一作者 | C17: 50
A18: 傑出期刊 | B18: 通訊作者且第一作者以本校為發表機構 | C18: 50
A19: 傑出期刊 | B19: 通訊作者且第一作者非以本校為發表機構 | C19: 25
A20: 傑出期刊 | B20: 第二、三作者 | C20: 25
A21: 傑出期刊 | B21: 第四(含)作者以後 | C21: 12
... A26: 優良期刊 | B26: 第四(含)作者以後 | C26: 9
A27: 甲級期刊 | B27: 第一作者 | C27: 20 | D27: 講座及特聘教授不得申請
A28: 甲級期刊 | B28: 通訊作者且第一作者以本校為發表機構 | C28: 20 | D28: 講座及特聘教授不得申請
A29: 甲級期刊 | B29: 通訊作者且第一作者非以本校為發表機構 | C29: 10 | D29: 講座及特聘教授不得申請
A30: 甲級期刊 | B30: 第二、三作者 | C30: 10 | D30: 講座及特聘教授不得申請
A31: 甲級期刊 | B31: 第四(含)作者以後 | C31: 5 | D31: 講座及特聘教授不得申請
A32: 一般期刊 | B32: 第一作者 | C32: 8 | D32: 講座教授特聘教授、及傑出研究及研究獎、優良研究及創作獎不得申請
A33: 一般期刊 | B33: 通訊作者且第一作者以本校為發表機構 | C33: 8 | D33: 講座教授特聘教授、及傑出研究及研究獎、優良研究及創作獎不得申請
A34: 一般期刊 | B34: 通訊作者且第一作者非以本校為發表機構 | C34: 4 | D34: 講座教授特聘教授、及傑出研究及研究獎、優良研究及創作獎不得申請
A35: 一般期刊 | B35: 第二、三作者 | C35: 4 | D35: 講座教授特聘教授、及傑出研究及研究獎、優良研究及創作獎不得申請
A36: 一般期刊 | B36: 第四(含)作者以後 | C36: 2 | D36: 講座教授特聘教授、及傑出研究及研究獎、優良研究及創作獎不得申請

Sheet 期刊類型作者序加權
A1: 期刊類型 | B1: 作者序 | C1: 額外加權
A2: SCI(E) | B2: 第一作者 | C2: 是
A3: SSCI | B3: 通訊作者且第一作者以本校為發表機構 | C3: 否
A4: A&HCI | B4: 通訊作者且第一作者非以本校為發表機構
A5: TSSCI第一級 | B5: 第二、三作者
A6: TSSCI第二級 | B6: 第四(含)作者以後
A7: THCI第一級
A8: THCI第二級
A9: A&HCI

Sheet 範例
